Package: sigsquared
Version: 1.36.0
Maintainer: UnJin Lee
MaintainerEmail: unjin at uchicago.edu
git_url: https://git.bioconductor.org/packages/sigsquared
git_branch: RELEASE_3_19
git_last_commit: 163248b
git_last_commit_date: 2024-04-30 10:41:51 -0400 (Tue, 30 Apr 2024)