##############################################################################
##############################################################################
###
### Running command:
###
###   E:\biocbuild\bbs-3.19-bioc\R\bin\R.exe CMD check --no-multiarch --install=check:sevenbridges.install-out.txt --library=E:\biocbuild\bbs-3.19-bioc\R\library --no-vignettes --timings sevenbridges_1.34.0.tar.gz
###
##############################################################################
##############################################################################


* using log directory 'E:/biocbuild/bbs-3.19-bioc/meat/sevenbridges.Rcheck'
* using R version 4.4.1 (2024-06-14 ucrt)
* using platform: x86_64-w64-mingw32
* R was compiled by
    gcc.exe (GCC) 13.2.0
    GNU Fortran (GCC) 13.2.0
* running under: Windows Server 2022 x64 (build 20348)
* using session charset: UTF-8
* using option '--no-vignettes'
* checking for file 'sevenbridges/DESCRIPTION' ... OK
* checking extension type ... Package
* this is package 'sevenbridges' version '1.34.0'
* package encoding: UTF-8
* checking package namespace information ... OK
* checking package dependencies ... OK
* checking if this is a source package ... OK
* checking if there is a namespace ... OK
* checking for hidden files and directories ... OK
* checking for portable file names ... OK
* checking whether package 'sevenbridges' can be installed ... OK
* checking installed package size ... OK
* checking package directory ... OK
* checking 'build' directory ... OK
* checking DESCRIPTION meta-information ... OK
* checking top-level files ... OK
* checking for left-over files ... OK
* checking index information ... OK
* checking package subdirectories ... OK
* checking code files for non-ASCII characters ... OK
* checking R files for syntax errors ... OK
* checking whether the package can be loaded ... OK
* checking whether the package can be loaded with stated dependencies ... OK
* checking whether the package can be unloaded cleanly ... OK
* checking whether the namespace can be loaded with stated dependencies ... OK
* checking whether the namespace can be unloaded cleanly ... OK
* checking whether startup messages can be suppressed ... OK
* checking dependencies in R code ... OK
* checking S3 generic/method consistency ... OK
* checking replacement functions ... OK
* checking foreign function calls ... OK
* checking R code for possible problems ... OK
* checking Rd files ... NOTE
checkRd: (-1) CommandLineBinding-class.Rd:22: Lost braces in \itemize; meant \describe ?
checkRd: (-1) CommandLineBinding-class.Rd:23: Lost braces in \itemize; meant \describe ?
checkRd: (-1) CommandLineBinding-class.Rd:24-25: Lost braces in \itemize; meant \describe ?
checkRd: (-1) CommandLineBinding-class.Rd:26: Lost braces in \itemize; meant \describe ?
checkRd: (-1) CommandLineBinding-class.Rd:27-29: Lost braces in \itemize; meant \describe ?
checkRd: (-1) CommandLineBinding-class.Rd:30-31: Lost braces in \itemize; meant \describe ?
checkRd: (-1) CommandLineBinding-class.Rd:32: Lost braces in \itemize; meant \describe ?
checkRd: (-1) CommandLineTool.Rd:75-78: Lost braces in \itemize; meant \describe ?
checkRd: (-1) CommandLineTool.Rd:80-84: Lost braces in \itemize; meant \describe ?
checkRd: (-1) CommandLineTool.Rd:86-90: Lost braces in \itemize; meant \describe ?
checkRd: (-1) CommandLineTool.Rd:92-93: Lost braces in \itemize; meant \describe ?
checkRd: (-1) CommandLineTool.Rd:95-97: Lost braces in \itemize; meant \describe ?
checkRd: (-1) CommandLineTool.Rd:99-100: Lost braces in \itemize; meant \describe ?
checkRd: (-1) Tool-class.Rd:12: Lost braces
    12 | code{Tool} class extends \code{CommandLineTool}
       |     ^
checkRd: (-1) WorkflowStep.Rd:168-170: Lost braces in \itemize; meant \describe ?
checkRd: (-1) WorkflowStep.Rd:172-176: Lost braces in \itemize; meant \describe ?
checkRd: (-1) WorkflowStep.Rd:178-182: Lost braces in \itemize; meant \describe ?
* checking Rd metadata ... OK
* checking Rd cross-references ... OK
* checking for missing documentation entries ... OK
* checking for code/documentation mismatches ... OK
* checking Rd \usage sections ... OK
* checking Rd contents ... OK
* checking for unstated dependencies in examples ... OK
* checking files in 'vignettes' ... OK
* checking examples ... OK
Examples with CPU (user + system) or elapsed time > 5s
             user system elapsed
Flow        53.63   0.51   54.18
Tool-class  18.65   0.22   23.71
link_what   12.30   0.08   13.87
link        10.61   0.05   11.27
convert_app  8.12   0.06    8.88
* checking for unstated dependencies in 'tests' ... OK
* checking tests ...
  Running 'testthat.R'
 OK
* checking for unstated dependencies in vignettes ... OK
* checking package vignettes ... OK
* checking running R code from vignettes ... SKIPPED
* checking re-building of vignette outputs ... SKIPPED
* checking PDF version of manual ... OK
* DONE

Status: 1 NOTE
See
  'E:/biocbuild/bbs-3.19-bioc/meat/sevenbridges.Rcheck/00check.log'
for details.