##############################################################################
##############################################################################
###
### Running command:
###
###   chmod a+r sevenbridges -R && E:\biocbuild\bbs-3.19-bioc\R\bin\R.exe CMD build --keep-empty-dirs --no-resave-data sevenbridges
###
##############################################################################
##############################################################################


* checking for file 'sevenbridges/DESCRIPTION' ... OK
* preparing 'sevenbridges':
* checking DESCRIPTION meta-information ... OK
* installing the package to build vignettes
* creating vignettes ... OK
* checking for LF line-endings in source and make files and shell scripts
* checking for empty or unneeded directories
* building 'sevenbridges_1.34.0.tar.gz'