Package: seqPattern
Version: 1.36.0
Maintainer: Vanja Haberle
MaintainerEmail: vanja.haberle at gmail.com
git_url: https://git.bioconductor.org/packages/seqPattern
git_branch: RELEASE_3_19
git_last_commit: f43b9c8
git_last_commit_date: 2024-04-30 10:41:15 -0400 (Tue, 30 Apr 2024)