Package: seqCAT
Version: 1.26.0
Command: /Library/Frameworks/R.framework/Resources/bin/R CMD INSTALL seqCAT
StartedAt: 2024-06-09 17:27:28 -0400 (Sun, 09 Jun 2024)
EndedAt: 2024-06-09 17:28:24 -0400 (Sun, 09 Jun 2024)
EllapsedTime: 55.6 seconds
RetCode: 0
Status: OK