Package: seq.hotSPOT
Version: 1.4.0
Command: E:\biocbuild\bbs-3.19-bioc\R\bin\R.exe CMD check --no-multiarch --install=check:seq.hotSPOT.install-out.txt --library=E:\biocbuild\bbs-3.19-bioc\R\library --no-vignettes --timings seq.hotSPOT_1.4.0.tar.gz
StartedAt: 2024-10-17 05:40:26 -0400 (Thu, 17 Oct 2024)
EndedAt: 2024-10-17 05:41:08 -0400 (Thu, 17 Oct 2024)
EllapsedTime: 41.4 seconds
RetCode: 0
Status: OK
CheckDir: seq.hotSPOT.Rcheck
Warnings: 0