Package: seq.hotSPOT
Version: 1.4.0
Command: /Library/Frameworks/R.framework/Resources/bin/R CMD build --keep-empty-dirs --no-resave-data seq.hotSPOT
StartedAt: 2024-06-10 04:38:06 -0400 (Mon, 10 Jun 2024)
EndedAt: 2024-06-10 04:38:24 -0400 (Mon, 10 Jun 2024)
EllapsedTime: 18.7 seconds
RetCode: 0
Status: OK
PackageFile: seq.hotSPOT_1.4.0.tar.gz
PackageFileSize: 1.401 <A href="http://en.wikipedia.org/wiki/MiB" target="_blank">MiB</A>