Package: sechm
Version: 1.12.0
Maintainer: Pierre-Luc Germain
MaintainerEmail: pierre-luc.germain at hest.ethz.ch
git_url: https://git.bioconductor.org/packages/sechm
git_branch: RELEASE_3_19
git_last_commit: c95bd5f
git_last_commit_date: 2024-04-30 11:33:14 -0400 (Tue, 30 Apr 2024)