Package: screenCounter
Version: 1.4.0
Maintainer: Aaron Lun
MaintainerEmail: infinite.monkeys.with.keyboards at gmail.com
git_url: https://git.bioconductor.org/packages/screenCounter
git_branch: RELEASE_3_19
git_last_commit: cef3cc5
git_last_commit_date: 2024-04-30 11:49:11 -0400 (Tue, 30 Apr 2024)