Package: scde
Version: 2.32.0
Command: E:\biocbuild\bbs-3.19-bioc\R\bin\R.exe CMD INSTALL scde
StartedAt: 2024-10-16 17:04:43 -0400 (Wed, 16 Oct 2024)
EndedAt: 2024-10-16 17:06:06 -0400 (Wed, 16 Oct 2024)
EllapsedTime: 82.4 seconds
RetCode: 0
Status: OK