##############################################################################
##############################################################################
###
### Running command:
###
###   chmod a+r scde -R && E:\biocbuild\bbs-3.19-bioc\R\bin\R.exe CMD build --keep-empty-dirs --no-resave-data scde
###
##############################################################################
##############################################################################


* checking for file 'scde/DESCRIPTION' ... OK
* preparing 'scde':
* checking DESCRIPTION meta-information ... OK
* cleaning src
* checking for LF line-endings in source and make files and shell scripts
* checking for empty or unneeded directories
* building 'scde_2.32.0.tar.gz'