Package: scde
Version: 2.32.0
Command: /home/biocbuild/bbs-3.19-bioc/R/bin/R CMD INSTALL scde
StartedAt: 2024-10-16 16:33:52 -0400 (Wed, 16 Oct 2024)
EndedAt: 2024-10-16 16:34:41 -0400 (Wed, 16 Oct 2024)
EllapsedTime: 49.7 seconds
RetCode: 0
Status: OK