Package: scde
Version: 2.32.0
Command: /home/biocbuild/bbs-3.19-bioc/R/bin/R CMD check --install=check:scde.install-out.txt --library=/home/biocbuild/bbs-3.19-bioc/R/site-library --timings scde_2.32.0.tar.gz
StartedAt: 2024-10-17 04:46:47 -0400 (Thu, 17 Oct 2024)
EndedAt: 2024-10-17 04:49:31 -0400 (Thu, 17 Oct 2024)
EllapsedTime: 164.4 seconds
RetCode: 0
Status: WARNINGS
CheckDir: scde.Rcheck
Warnings: 2