Package: scde
Version: 2.32.0
Command: /Library/Frameworks/R.framework/Resources/bin/R CMD INSTALL scde
StartedAt: 2024-10-16 16:27:53 -0400 (Wed, 16 Oct 2024)
EndedAt: 2024-10-16 16:29:51 -0400 (Wed, 16 Oct 2024)
EllapsedTime: 118.5 seconds
RetCode: 0
Status: OK