Package: scde
Version: 2.32.0
Command: /Library/Frameworks/R.framework/Resources/bin/R CMD build --keep-empty-dirs --no-resave-data scde
StartedAt: 2024-10-16 22:57:44 -0400 (Wed, 16 Oct 2024)
EndedAt: 2024-10-16 22:57:47 -0400 (Wed, 16 Oct 2024)
EllapsedTime: 3.0 seconds
RetCode: 0
Status: OK
PackageFile: scde_2.32.0.tar.gz
PackageFileSize: 1.059 <A href="http://en.wikipedia.org/wiki/MiB" target="_blank">MiB</A>