Package: scde
Version: 2.32.0
Command: /Library/Frameworks/R.framework/Resources/bin/R CMD check --install=check:scde.install-out.txt --library=/Library/Frameworks/R.framework/Resources/library --no-vignettes --timings scde_2.32.0.tar.gz
StartedAt: 2024-06-11 04:29:00 -0400 (Tue, 11 Jun 2024)
EndedAt: 2024-06-11 04:32:50 -0400 (Tue, 11 Jun 2024)
EllapsedTime: 230.5 seconds
RetCode: 0
Status: WARNINGS
CheckDir: scde.Rcheck
Warnings: 3