Package: scde
Version: 2.32.0
Command: rm -rf scde.buildbin-libdir && mkdir scde.buildbin-libdir && /Users/biocbuild/BBS/utils/build-universal.sh scde_2.32.0.tar.gz /Library/Frameworks/R.framework/Resources/bin/R scde.buildbin-libdir
StartedAt: 2024-06-11 13:04:35 -0400 (Tue, 11 Jun 2024)
EndedAt: 2024-06-11 13:06:18 -0400 (Tue, 11 Jun 2024)
EllapsedTime: 103.3 seconds
RetCode: 0
Status: OK
PackageFile: scde_2.32.0.tgz
PackageFileSize: 2.183 <A href="http://en.wikipedia.org/wiki/MiB" target="_blank">MiB</A>