Package: scTHI
Version: 1.16.0
Command: /home/biocbuild/R/R-beta-2024-04-15_r86425/bin/R CMD check --install=check:scTHI.install-out.txt --library=/home/biocbuild/R/R-beta-2024-04-15_r86425/site-library --no-vignettes --timings scTHI_1.16.0.tar.gz
StartedAt: 2024-05-09 11:48:19 -0000 (Thu, 09 May 2024)
EndedAt: 2024-05-09 11:49:24 -0000 (Thu, 09 May 2024)
EllapsedTime: 65.1 seconds
RetCode: 0
Status: OK
CheckDir: scTHI.Rcheck
Warnings: 0