Package: scTHI
Version: 1.16.0
Command: /home/biocbuild/R/R-beta-2024-04-15_r86425/bin/R CMD build --keep-empty-dirs --no-resave-data scTHI
StartedAt: 2024-05-09 03:30:29 -0000 (Thu, 09 May 2024)
EndedAt: 2024-05-09 03:32:17 -0000 (Thu, 09 May 2024)
EllapsedTime: 108.1 seconds
RetCode: 0
Status: OK
PackageFile: scTHI_1.16.0.tar.gz
PackageFileSize: 559.6 <A href="http://en.wikipedia.org/wiki/KiB" target="_blank">KiB</A>