Package: scRNAseqApp
Version: 1.4.0
Maintainer: Jianhong Ou
MaintainerEmail: jianhong.ou at duke.edu
git_url: https://git.bioconductor.org/packages/scRNAseqApp
git_branch: RELEASE_3_19
git_last_commit: c90cf34
git_last_commit_date: 2024-04-30 11:46:47 -0400 (Tue, 30 Apr 2024)