Package: scMerge
Version: 1.20.0
Command: F:\biocbuild\bbs-3.19-bioc\R\bin\R.exe CMD INSTALL scMerge
StartedAt: 2024-06-26 16:46:08 -0400 (Wed, 26 Jun 2024)
EndedAt: 2024-06-26 16:47:08 -0400 (Wed, 26 Jun 2024)
EllapsedTime: 60.1 seconds
RetCode: 0
Status: OK