Package: scMerge
Version: 1.20.0
Command: /Library/Frameworks/R.framework/Resources/bin/R CMD INSTALL scMerge
StartedAt: 2024-06-09 17:24:45 -0400 (Sun, 09 Jun 2024)
EndedAt: 2024-06-09 17:25:47 -0400 (Sun, 09 Jun 2024)
EllapsedTime: 62.2 seconds
RetCode: 0
Status: OK