Package: scMerge
Version: 1.20.0
Command: /Library/Frameworks/R.framework/Resources/bin/R CMD check --install=check:scMerge.install-out.txt --library=/Library/Frameworks/R.framework/Resources/library --no-vignettes --timings scMerge_1.20.0.tar.gz
StartedAt: 2024-06-11 04:40:35 -0400 (Tue, 11 Jun 2024)
EndedAt: 2024-06-11 04:55:08 -0400 (Tue, 11 Jun 2024)
EllapsedTime: 872.4 seconds
RetCode: 0
Status: OK
CheckDir: scMerge.Rcheck
Warnings: 0