Package: scMerge
Version: 1.20.0
Command: /Library/Frameworks/R.framework/Resources/bin/R CMD build --keep-empty-dirs --no-resave-data scMerge
StartedAt: 2024-06-10 04:19:08 -0400 (Mon, 10 Jun 2024)
EndedAt: 2024-06-10 04:23:20 -0400 (Mon, 10 Jun 2024)
EllapsedTime: 252.3 seconds
RetCode: 0
Status: OK
PackageFile: scMerge_1.20.0.tar.gz
PackageFileSize: 3.44 <A href="http://en.wikipedia.org/wiki/MiB" target="_blank">MiB</A>