Package: scMerge
Version: 1.20.0
Command: rm -rf scMerge.buildbin-libdir && mkdir scMerge.buildbin-libdir && /Users/biocbuild/BBS/utils/build-universal.sh scMerge_1.20.0.tar.gz /Library/Frameworks/R.framework/Resources/bin/R scMerge.buildbin-libdir
StartedAt: 2024-06-11 13:06:31 -0400 (Tue, 11 Jun 2024)
EndedAt: 2024-06-11 13:07:56 -0400 (Tue, 11 Jun 2024)
EllapsedTime: 85.8 seconds
RetCode: 0
Status: OK
PackageFile: scMerge_1.20.0.tgz
PackageFileSize: 3.546 <A href="http://en.wikipedia.org/wiki/MiB" target="_blank">MiB</A>