Package: scGPS
Version: 1.18.0
Maintainer: Quan Nguyen
MaintainerEmail: quan.nguyen at uq.edu.au
git_url: https://git.bioconductor.org/packages/scGPS
git_branch: RELEASE_3_19
git_last_commit: 134d4c6
git_last_commit_date: 2024-04-30 11:16:01 -0400 (Tue, 30 Apr 2024)