Package: scBFA
Version: 1.18.0
Command: /Library/Frameworks/R.framework/Resources/bin/R CMD INSTALL scBFA
StartedAt: 2024-06-09 15:33:35 -0400 (Sun, 09 Jun 2024)
EndedAt: 2024-06-09 15:34:35 -0400 (Sun, 09 Jun 2024)
EllapsedTime: 60.3 seconds
RetCode: 0
Status: OK