Package: scBFA
Version: 1.18.0
Command: rm -rf scBFA.buildbin-libdir && mkdir scBFA.buildbin-libdir && /Users/biocbuild/BBS/utils/build-universal.sh scBFA_1.18.0.tar.gz /Library/Frameworks/R.framework/Resources/bin/R scBFA.buildbin-libdir
StartedAt: 2024-06-10 00:37:57 -0400 (Mon, 10 Jun 2024)
EndedAt: 2024-06-10 00:39:01 -0400 (Mon, 10 Jun 2024)
EllapsedTime: 63.9 seconds
RetCode: 0
Status: OK
PackageFile: scBFA_1.18.0.tgz
PackageFileSize: 1.28 <A href="http://en.wikipedia.org/wiki/MiB" target="_blank">MiB</A>