Package: sSeq
Version: 1.42.0
Maintainer: Danni Yu
MaintainerEmail: dyu at purdue.edu
git_url: https://git.bioconductor.org/packages/sSeq
git_branch: RELEASE_3_19
git_last_commit: 44f8297
git_last_commit_date: 2024-04-30 10:31:53 -0400 (Tue, 30 Apr 2024)