Package: roastgsa
Version: 1.2.0
Command: E:\biocbuild\bbs-3.19-bioc\R\bin\R.exe CMD check --no-multiarch --install=check:roastgsa.install-out.txt --library=E:\biocbuild\bbs-3.19-bioc\R\library --no-vignettes --timings roastgsa_1.2.0.tar.gz
StartedAt: 2024-10-17 05:11:44 -0400 (Thu, 17 Oct 2024)
EndedAt: 2024-10-17 05:12:53 -0400 (Thu, 17 Oct 2024)
EllapsedTime: 69.2 seconds
RetCode: 0
Status: OK
CheckDir: roastgsa.Rcheck
Warnings: 0