Package: rnaseqcomp
Version: 1.34.0
Maintainer: Mingxiang Teng
MaintainerEmail: tengmx at gmail.com
git_url: https://git.bioconductor.org/packages/rnaseqcomp
git_branch: RELEASE_3_19
git_last_commit: 41e093d
git_last_commit_date: 2024-04-30 10:44:34 -0400 (Tue, 30 Apr 2024)