Package: rgoslin
Version: 1.8.0
Maintainer: Nils Hoffmann
MaintainerEmail: nils.hoffmann at cebitec.uni-bielefeld.de
git_url: https://git.bioconductor.org/packages/rgoslin
git_branch: RELEASE_3_19
git_last_commit: 4152af5
git_last_commit_date: 2024-04-30 11:40:59 -0400 (Tue, 30 Apr 2024)