Package: regsplice
Version: 1.30.0
Maintainer: Lukas M. Weber
MaintainerEmail: lukas.weber.edu at gmail.com
git_url: https://git.bioconductor.org/packages/regsplice
git_branch: RELEASE_3_19
git_last_commit: 8673818
git_last_commit_date: 2024-04-30 10:54:53 -0400 (Tue, 30 Apr 2024)