Package: recount3
Version: 1.14.0
Maintainer: Leonardo Collado-Torres
MaintainerEmail: lcolladotor at gmail.com
git_url: https://git.bioconductor.org/packages/recount3
git_branch: RELEASE_3_19
git_last_commit: aebcb33
git_last_commit_date: 2024-04-30 11:28:09 -0400 (Tue, 30 Apr 2024)