Package: rawrr
Version: 1.12.0
Command: /home/biocbuild/bbs-3.19-bioc/R/bin/R CMD build --keep-empty-dirs --no-resave-data rawrr
StartedAt: 2024-10-16 20:19:03 -0400 (Wed, 16 Oct 2024)
EndedAt: 2024-10-16 20:19:42 -0400 (Wed, 16 Oct 2024)
EllapsedTime: 39.1 seconds
RetCode: 0
Status: OK
PackageFile: rawrr_1.12.0.tar.gz
PackageFileSize: 1.84 <A href="http://en.wikipedia.org/wiki/MiB" target="_blank">MiB</A>