Package: ramwas Version: 1.28.0 Command: /Library/Frameworks/R.framework/Resources/bin/R CMD build --keep-empty-dirs --no-resave-data ramwas StartedAt: 2024-10-16 22:22:19 -0400 (Wed, 16 Oct 2024) EndedAt: 2024-10-16 22:30:45 -0400 (Wed, 16 Oct 2024) EllapsedTime: 506.2 seconds RetCode: 0 Status: OK PackageFile: ramwas_1.28.0.tar.gz PackageFileSize: 3.238 <A href="http://en.wikipedia.org/wiki/MiB" target="_blank">MiB</A>