Package: ramwas Version: 1.28.0 Command: rm -rf ramwas.buildbin-libdir && mkdir ramwas.buildbin-libdir && /Users/biocbuild/BBS/utils/build-universal.sh ramwas_1.28.0.tar.gz /Library/Frameworks/R.framework/Resources/bin/R ramwas.buildbin-libdir StartedAt: 2024-10-17 16:55:44 -0400 (Thu, 17 Oct 2024) EndedAt: 2024-10-17 16:57:16 -0400 (Thu, 17 Oct 2024) EllapsedTime: 91.4 seconds RetCode: 0 Status: OK PackageFile: ramwas_1.28.0.tgz PackageFileSize: 3.652 <A href="http://en.wikipedia.org/wiki/MiB" target="_blank">MiB</A>