Package: ramwas
Version: 1.28.0
Command: /Library/Frameworks/R.framework/Resources/bin/R CMD build --keep-empty-dirs --no-resave-data ramwas
StartedAt: 2024-10-17 07:07:27 -0400 (Thu, 17 Oct 2024)
EndedAt: 2024-10-17 07:13:07 -0400 (Thu, 17 Oct 2024)
EllapsedTime: 340.4 seconds
RetCode: 0
Status: OK
PackageFile: ramwas_1.28.0.tar.gz
PackageFileSize: 3.239 <A href="http://en.wikipedia.org/wiki/MiB" target="_blank">MiB</A>