Package: rain
Version: 1.38.0
Command: chmod a+r rain -R && E:\biocbuild\bbs-3.19-bioc\R\bin\R.exe CMD build --keep-empty-dirs --no-resave-data rain
StartedAt: 2024-10-16 21:20:55 -0400 (Wed, 16 Oct 2024)
EndedAt: 2024-10-16 21:21:27 -0400 (Wed, 16 Oct 2024)
EllapsedTime: 32.5 seconds
RetCode: 0
Status: OK
PackageFile: rain_1.38.0.tar.gz
PackageFileSize: 605.5 <A href="http://en.wikipedia.org/wiki/KiB" target="_blank">KiB</A>