Package: rain
Version: 1.38.0
Command: rm -rf rain.buildbin-libdir && mkdir rain.buildbin-libdir && E:\biocbuild\bbs-3.19-bioc\R\bin\R.exe CMD INSTALL --build --library=rain.buildbin-libdir rain_1.38.0.tar.gz
StartedAt: 2024-10-17 08:25:14 -0400 (Thu, 17 Oct 2024)
EndedAt: 2024-10-17 08:25:26 -0400 (Thu, 17 Oct 2024)
EllapsedTime: 12.7 seconds
RetCode: 0
Status: OK
PackageFile: rain_1.38.0.zip
PackageFileSize: 635.7 <A href="http://en.wikipedia.org/wiki/KiB" target="_blank">KiB</A>