Package: rain
Version: 1.38.0
Command: /Library/Frameworks/R.framework/Resources/bin/R CMD INSTALL rain
StartedAt: 2024-10-16 16:25:22 -0400 (Wed, 16 Oct 2024)
EndedAt: 2024-10-16 16:25:39 -0400 (Wed, 16 Oct 2024)
EllapsedTime: 16.4 seconds
RetCode: 0
Status: OK