Package: rain
Version: 1.38.0
Command: rm -rf rain.buildbin-libdir && mkdir rain.buildbin-libdir && /Users/biocbuild/BBS/utils/build-universal.sh rain_1.38.0.tar.gz /Library/Frameworks/R.framework/Resources/bin/R rain.buildbin-libdir
StartedAt: 2024-10-17 16:55:39 -0400 (Thu, 17 Oct 2024)
EndedAt: 2024-10-17 16:55:57 -0400 (Thu, 17 Oct 2024)
EllapsedTime: 18.0 seconds
RetCode: 0
Status: OK
PackageFile: rain_1.38.0.tgz
PackageFileSize: 632.6 <A href="http://en.wikipedia.org/wiki/KiB" target="_blank">KiB</A>