Package: rain
Version: 1.38.0
Command: /Library/Frameworks/R.framework/Resources/bin/R CMD build --keep-empty-dirs --no-resave-data rain
StartedAt: 2024-06-10 03:03:27 -0400 (Mon, 10 Jun 2024)
EndedAt: 2024-06-10 03:04:18 -0400 (Mon, 10 Jun 2024)
EllapsedTime: 50.7 seconds
RetCode: 0
Status: OK
PackageFile: rain_1.38.0.tar.gz
PackageFileSize: 604 <A href="http://en.wikipedia.org/wiki/KiB" target="_blank">KiB</A>