Package: rBiopaxParser
Version: 2.44.0
Command: /Library/Frameworks/R.framework/Resources/bin/R CMD INSTALL rBiopaxParser
StartedAt: 2024-06-09 15:03:50 -0400 (Sun, 09 Jun 2024)
EndedAt: 2024-06-09 15:03:56 -0400 (Sun, 09 Jun 2024)
EllapsedTime: 6.2 seconds
RetCode: 0
Status: OK