Package: r3Cseq
Version: 1.50.0
Maintainer: Supat Thongjuea <supat.thongjuea@imm.ox.ac.uk> or
MaintainerEmail: supat.thongjuea at gmail.com
git_url: https://git.bioconductor.org/packages/r3Cseq
git_branch: RELEASE_3_19
git_last_commit: 5482d80
git_last_commit_date: 2024-04-30 10:26:01 -0400 (Tue, 30 Apr 2024)