Package: qpgraph
Version: 2.38.0
Maintainer: Robert Castelo
MaintainerEmail: robert.castelo at upf.edu
git_url: https://git.bioconductor.org/packages/qpgraph
git_branch: RELEASE_3_19
git_last_commit: e551606
git_last_commit_date: 2024-04-30 10:19:23 -0400 (Tue, 30 Apr 2024)