Package: qckitfastq
Version: 1.20.0
Command: /Library/Frameworks/R.framework/Resources/bin/R CMD INSTALL qckitfastq
StartedAt: 2024-06-09 15:07:55 -0400 (Sun, 09 Jun 2024)
EndedAt: 2024-06-09 15:08:14 -0400 (Sun, 09 Jun 2024)
EllapsedTime: 19.4 seconds
RetCode: 0
Status: OK