Package: qckitfastq
Version: 1.20.0
Command: /Library/Frameworks/R.framework/Resources/bin/R CMD build --keep-empty-dirs --no-resave-data qckitfastq
StartedAt: 2024-06-09 17:48:19 -0400 (Sun, 09 Jun 2024)
EndedAt: 2024-06-09 17:49:05 -0400 (Sun, 09 Jun 2024)
EllapsedTime: 46.0 seconds
RetCode: 0
Status: OK
PackageFile: qckitfastq_1.20.0.tar.gz
PackageFileSize: 979.7 <A href="http://en.wikipedia.org/wiki/KiB" target="_blank">KiB</A>