Package: qckitfastq
Version: 1.20.0
Command: /home/biocbuild/R/R-beta-2024-04-15_r86425/bin/R CMD check --install=check:qckitfastq.install-out.txt --library=/home/biocbuild/R/R-beta-2024-04-15_r86425/site-library --no-vignettes --timings qckitfastq_1.20.0.tar.gz
StartedAt: 2024-05-09 10:49:35 -0000 (Thu, 09 May 2024)
EndedAt: 2024-05-09 10:50:59 -0000 (Thu, 09 May 2024)
EllapsedTime: 84.1 seconds
RetCode: 0
Status: OK
CheckDir: qckitfastq.Rcheck
Warnings: 0