Package: qckitfastq
Version: 1.20.0
Command: /Library/Frameworks/R.framework/Resources/bin/R CMD INSTALL qckitfastq
StartedAt: 2024-10-16 16:03:47 -0400 (Wed, 16 Oct 2024)
EndedAt: 2024-10-16 16:04:06 -0400 (Wed, 16 Oct 2024)
EllapsedTime: 19.1 seconds
RetCode: 0
Status: OK